BEGIN:VCALENDAR
VERSION:2.0
PRODID:-//eventon.com NONSGML v1.0//EN
BEGIN:VEVENT
UID:69e5e8119af1a
DTSTAMP:20260420T034713
DTSTART:20170511T023000Z
DTEND:20170511T045000Z
LOCATION:
SUMMARY:Oscar Ornelas (+ Double Barrel Comedy Showcase at 8 PM)
DESCRIPTION: Oscar Ornelas (+ Double Barrel Comedy Showcase at 8 PM)
END:VEVENT
END:VCALENDAR