BEGIN:VCALENDAR
VERSION:2.0
PRODID:-//eventon.com NONSGML v1.0//EN
BEGIN:VEVENT
UID:69e75379c7714
DTSTAMP:20260421T053745
DTSTART:20170129T024500Z
DTEND:20170128T064500Z
LOCATION:Speakeasy 412 Congress Ave\,  Austin\,  Texas 78701
SUMMARY:Suede
DESCRIPTION: Suede
END:VEVENT
END:VCALENDAR