BEGIN:VCALENDAR
VERSION:2.0
PRODID:-//eventon.com NONSGML v1.0//EN
BEGIN:VEVENT
UID:69e768340c22a
DTSTAMP:20260421T070612
DTSTART:20170128T024500Z
DTEND:20170127T064500Z
LOCATION:Speakeasy 412 Congress Ave\,  Austin\,  Texas 78701
SUMMARY:Roxy Roca
DESCRIPTION: Roxy Roca
END:VEVENT
END:VCALENDAR