BEGIN:VCALENDAR
VERSION:2.0
PRODID:-//eventon.com NONSGML v1.0//EN
BEGIN:VEVENT
UID:69e780cf3b676
DTSTAMP:20260421T085111
DTSTART:20170127T030000Z
DTEND:20170126T060000Z
LOCATION:
SUMMARY:Phil Luna Trio (+ Comedy Showcase at 8pm)
DESCRIPTION: 8:00pm Comedy Showcase 10:00pm Phil Luna Trio
END:VEVENT
END:VCALENDAR