BEGIN:VCALENDAR
VERSION:2.0
PRODID:-//eventon.com NONSGML v1.0//EN
BEGIN:VEVENT
UID:69e79a68647e1
DTSTAMP:20260421T104024
DTSTART:20170125T023000Z
DTEND:20170124T060000Z
LOCATION:
SUMMARY:Marshall Moon
DESCRIPTION: Marshall Moon
END:VEVENT
END:VCALENDAR