BEGIN:VCALENDAR
VERSION:2.0
PRODID:-//eventon.com NONSGML v1.0//EN
BEGIN:VEVENT
UID:69e7add03d93d
DTSTAMP:20260421T120312
DTSTART:20170121T024500Z
DTEND:20170120T060000Z
LOCATION:Speakeasy 412 Congress Ave\,  Austin\,  Texas 78701
SUMMARY:Cap City Band
DESCRIPTION: Cap City Band
END:VEVENT
END:VCALENDAR