BEGIN:VCALENDAR
VERSION:2.0
PRODID:-//eventon.com NONSGML v1.0//EN
BEGIN:VEVENT
UID:69e7c8ae009f6
DTSTAMP:20260421T135750
DTSTART:20170120T024500Z
DTEND:20170119T060000Z
LOCATION:Speakeasy 412 Congress Ave\,  Austin\,  Texas 78701
SUMMARY:The Vinyl Revival
DESCRIPTION: The Vinyl Revival
END:VEVENT
END:VCALENDAR