BEGIN:VCALENDAR
VERSION:2.0
PRODID:-//eventon.com NONSGML v1.0//EN
BEGIN:VEVENT
UID:69e7f7473f3ae
DTSTAMP:20260421T171639
DTSTART:20170119T023000Z
DTEND:20170118T060000Z
LOCATION:
SUMMARY:The Weak Knights
DESCRIPTION: The Weak Knights
END:VEVENT
END:VCALENDAR