BEGIN:VCALENDAR
VERSION:2.0
PRODID:-//eventon.com NONSGML v1.0//EN
BEGIN:VEVENT
UID:69e7fb40aa3c4
DTSTAMP:20260421T173336
DTSTART:20170118T023000Z
DTEND:20170117T060000Z
LOCATION:Speakeasy 412 Congress Ave\,  Austin\,  Texas 78701
SUMMARY:Kenny McCardle
DESCRIPTION: Kenny McCardle
END:VEVENT
END:VCALENDAR