BEGIN:VCALENDAR
VERSION:2.0
PRODID:-//eventon.com NONSGML v1.0//EN
BEGIN:VEVENT
UID:69e810bec4748
DTSTAMP:20260421T190518
DTSTART:20170115T024500Z
DTEND:20170114T060000Z
LOCATION:Speakeasy 412 Congress Ave\,  Austin\,  Texas 78701
SUMMARY:Austin Party Band (+Brandon Bentley Happy Hour)
DESCRIPTION: Brandon Bentley 7 - 9 PM Austin Party Band 9:45 PM - 1:45 AM
END:VEVENT
END:VCALENDAR