BEGIN:VCALENDAR
VERSION:2.0
PRODID:-//eventon.com NONSGML v1.0//EN
BEGIN:VEVENT
UID:69e82b697fc0c
DTSTAMP:20260421T205905
DTSTART:20170114T024500Z
DTEND:20170113T060000Z
LOCATION:Speakeasy 412 Congress Ave\,  Austin\,  Texas 78701
SUMMARY:Plush
DESCRIPTION: Plush
END:VEVENT
END:VCALENDAR