BEGIN:VCALENDAR
VERSION:2.0
PRODID:-//eventon.com NONSGML v1.0//EN
BEGIN:VEVENT
UID:69e846fc3ce3c
DTSTAMP:20260421T225644
DTSTART:20170113T030000Z
DTEND:20170112T060000Z
LOCATION:
SUMMARY:Steep Cats (+ Comedy Showcase at 8pm)
DESCRIPTION: 8:00pm  Comedy Showcase 10:00pm Steep Cats
END:VEVENT
END:VCALENDAR