BEGIN:VCALENDAR
VERSION:2.0
PRODID:-//eventon.com NONSGML v1.0//EN
BEGIN:VEVENT
UID:69e85fd7ad568
DTSTAMP:20260422T004247
DTSTART:20170112T023000Z
DTEND:20170111T060000Z
LOCATION:
SUMMARY:Cowboy Diplomacy
DESCRIPTION: Cowboy Diplomacy
END:VEVENT
END:VCALENDAR