BEGIN:VCALENDAR
VERSION:2.0
PRODID:-//eventon.com NONSGML v1.0//EN
BEGIN:VEVENT
UID:69e873ae8ea04
DTSTAMP:20260422T020726
DTSTART:20170111T023000Z
DTEND:20170110T060000Z
LOCATION:
SUMMARY:Marshall Moon
DESCRIPTION: Marshall Moon
END:VEVENT
END:VCALENDAR