BEGIN:VCALENDAR
VERSION:2.0
PRODID:-//eventon.com NONSGML v1.0//EN
BEGIN:VEVENT
UID:69e88aa4f3661
DTSTAMP:20260422T034524
DTSTART:20170108T024500Z
DTEND:20170107T063000Z
LOCATION:Speakeasy 412 Congress Ave\,  Austin\,  Texas 78701
SUMMARY:Thomas and Hall
DESCRIPTION: Thomas and Hall
END:VEVENT
END:VCALENDAR