BEGIN:VCALENDAR
VERSION:2.0
PRODID:-//eventon.com NONSGML v1.0//EN
BEGIN:VEVENT
UID:69e8bb2478f9f
DTSTAMP:20260422T071220
DTSTART:20170107T024500Z
DTEND:20170106T060000Z
LOCATION:
SUMMARY:Safety Patrol
DESCRIPTION: Safety Patrol
END:VEVENT
END:VCALENDAR