BEGIN:VCALENDAR
VERSION:2.0
PRODID:-//eventon.com NONSGML v1.0//EN
BEGIN:VEVENT
UID:69e8b8c03ca4d
DTSTAMP:20260422T070208
DTSTART:20170106T023000Z
DTEND:20170105T060000Z
LOCATION:Speakeasy 412 Congress Ave\,  Austin\,  Texas 78701
SUMMARY:Chris Castaneda Project
DESCRIPTION: Chris Castaneda Project
END:VEVENT
END:VCALENDAR