BEGIN:VCALENDAR
VERSION:2.0
PRODID:-//eventon.com NONSGML v1.0//EN
BEGIN:VEVENT
UID:69e8cd98c6c84
DTSTAMP:20260422T083104
DTSTART:20170105T023000Z
DTEND:20170104T060000Z
LOCATION:
SUMMARY:The Weak Knights
DESCRIPTION: The Weak Knights
END:VEVENT
END:VCALENDAR