BEGIN:VCALENDAR
VERSION:2.0
PRODID:-//eventon.com NONSGML v1.0//EN
BEGIN:VEVENT
UID:69e8fe029482d
DTSTAMP:20260422T115738
DTSTART:20170101T050000Z
DTEND:20170102T045900Z
LOCATION:
SUMMARY:Closed: Happy Holidays!
DESCRIPTION: Closed: Happy Holidays!
END:VEVENT
END:VCALENDAR