BEGIN:VCALENDAR
VERSION:2.0
PRODID:-//eventon.com NONSGML v1.0//EN
BEGIN:VEVENT
UID:69e951c70531f
DTSTAMP:20260422T175503
DTSTART:20161225T050000Z
DTEND:20161226T045900Z
LOCATION:
SUMMARY:Closed: Happy Holidays!
DESCRIPTION: Closed: Happy Holidays!
END:VEVENT
END:VCALENDAR