BEGIN:VCALENDAR
VERSION:2.0
PRODID:-//eventon.com NONSGML v1.0//EN
BEGIN:VEVENT
UID:69e9571327f10
DTSTAMP:20260422T181739
DTSTART:20161219T020000Z
DTEND:20161218T060000Z
LOCATION:
SUMMARY:Prototype: A Night of Artistic Soul
DESCRIPTION: Prototype: A Night of Artistic Soul
END:VEVENT
END:VCALENDAR