BEGIN:VCALENDAR
VERSION:2.0
PRODID:-//eventon.com NONSGML v1.0//EN
BEGIN:VEVENT
UID:69e970526897c
DTSTAMP:20260422T200522
DTSTART:20161129T023000Z
DTEND:20161128T060000Z
LOCATION:Speakeasy 412 Congress Ave\,  Austin\,  Texas 78701
SUMMARY:Open Mic Night With Ronnie Hall
DESCRIPTION: Open Mic Night With Ronnie Hall
END:VEVENT
END:VCALENDAR