BEGIN:VCALENDAR
VERSION:2.0
PRODID:-//eventon.com NONSGML v1.0//EN
BEGIN:VEVENT
UID:69e98c38d56a4
DTSTAMP:20260422T220424
DTSTART:20161215T023000Z
DTEND:20161214T060000Z
LOCATION:
SUMMARY:The Weak Knights
DESCRIPTION: The Weak Knights
END:VEVENT
END:VCALENDAR