BEGIN:VCALENDAR
VERSION:2.0
PRODID:-//eventon.com NONSGML v1.0//EN
BEGIN:VEVENT
UID:69e9a5e4882e1
DTSTAMP:20260422T235356
DTSTART:20170101T010000Z
DTEND:20161231T060000Z
LOCATION:
SUMMARY:Speakeasy NYE 2016 with Austin Party Band
DESCRIPTION: Speakeasy NYE 2016 with Austin Party Band
END:VEVENT
END:VCALENDAR