BEGIN:VCALENDAR
VERSION:2.0
PRODID:-//eventon.com NONSGML v1.0//EN
BEGIN:VEVENT
UID:69e9bd87cce42
DTSTAMP:20260423T013447
DTSTART:20161231T024500Z
DTEND:20161230T064500Z
LOCATION:Speakeasy 412 Congress Ave\,  Austin\,  Texas 78701
SUMMARY:Dead Love Club
DESCRIPTION: Dead Love Club
END:VEVENT
END:VCALENDAR