BEGIN:VCALENDAR
VERSION:2.0
PRODID:-//eventon.com NONSGML v1.0//EN
BEGIN:VEVENT
UID:69e9d1bc17715
DTSTAMP:20260423T030100
DTSTART:20161229T020000Z
DTEND:20161228T060000Z
LOCATION:
SUMMARY:B.A.R.E.N.Y.E.
DESCRIPTION: B.A.R.E.N.Y.E.
END:VEVENT
END:VCALENDAR