BEGIN:VCALENDAR
VERSION:2.0
PRODID:-//eventon.com NONSGML v1.0//EN
BEGIN:VEVENT
UID:69ea01fa070da
DTSTAMP:20260423T062650
DTSTART:20161224T024500Z
DTEND:20161223T064500Z
LOCATION:Speakeasy 412 Congress Ave\,  Austin\,  Texas 78701
SUMMARY:Suede
DESCRIPTION: Suede
END:VEVENT
END:VCALENDAR