BEGIN:VCALENDAR
VERSION:2.0
PRODID:-//eventon.com NONSGML v1.0//EN
BEGIN:VEVENT
UID:69ea17c62fb3c
DTSTAMP:20260423T075950
DTSTART:20161223T023000Z
DTEND:20161222T063000Z
LOCATION:Speakeasy 412 Congress Ave\,  Austin\,  Texas 78701
SUMMARY:Brett McMinn
DESCRIPTION: Brett McMinn
END:VEVENT
END:VCALENDAR