BEGIN:VCALENDAR
VERSION:2.0
PRODID:-//eventon.com NONSGML v1.0//EN
BEGIN:VEVENT
UID:69ea31de3fec0
DTSTAMP:20260423T095110
DTSTART:20161222T024500Z
DTEND:20161221T060000Z
LOCATION:
SUMMARY:The Weak Knights
DESCRIPTION: The Weak Knights
END:VEVENT
END:VCALENDAR