BEGIN:VCALENDAR
VERSION:2.0
PRODID:-//eventon.com NONSGML v1.0//EN
BEGIN:VEVENT
UID:69ea464677510
DTSTAMP:20260423T111814
DTSTART:20161221T023000Z
DTEND:20161220T060000Z
LOCATION:Speakeasy 412 Congress Ave\,  Austin\,  Texas 78701
SUMMARY:Josh Ross
DESCRIPTION: Josh Ross
END:VEVENT
END:VCALENDAR