BEGIN:VCALENDAR
VERSION:2.0
PRODID:-//eventon.com NONSGML v1.0//EN
BEGIN:VEVENT
UID:69ea5b4806013
DTSTAMP:20260423T124752
DTSTART:20161218T024500Z
DTEND:20161217T064500Z
LOCATION:Speakeasy 412 Congress Ave\,  Austin\,  Texas 78701
SUMMARY:Chandler and the Bings
DESCRIPTION: Chandler and the Bings
END:VEVENT
END:VCALENDAR