BEGIN:VCALENDAR
VERSION:2.0
PRODID:-//eventon.com NONSGML v1.0//EN
BEGIN:VEVENT
UID:69ea70a522460
DTSTAMP:20260423T141901
DTSTART:20161217T024500Z
DTEND:20161216T060000Z
LOCATION:
SUMMARY:Safety Patrol
DESCRIPTION: Safety Patrol
END:VEVENT
END:VCALENDAR