BEGIN:VCALENDAR
VERSION:2.0
PRODID:-//eventon.com NONSGML v1.0//EN
BEGIN:VEVENT
UID:69ea9ed67a787
DTSTAMP:20260423T173606
DTSTART:20161214T023000Z
DTEND:20161213T060000Z
LOCATION:
SUMMARY:EmJae Ross
DESCRIPTION: EmJae Ross
END:VEVENT
END:VCALENDAR