BEGIN:VCALENDAR
VERSION:2.0
PRODID:-//eventon.com NONSGML v1.0//EN
BEGIN:VEVENT
UID:69eab99fd6350
DTSTAMP:20260423T193023
DTSTART:20161211T033000Z
DTEND:20161210T063000Z
LOCATION:Speakeasy 412 Congress Ave\,  Austin\,  Texas 78701
SUMMARY:Chris Castaneda Project
DESCRIPTION: 10:00pm Chris Castaneda Project
END:VEVENT
END:VCALENDAR