BEGIN:VCALENDAR
VERSION:2.0
PRODID:-//eventon.com NONSGML v1.0//EN
BEGIN:VEVENT
UID:69eaa2d6ec355
DTSTAMP:20260423T175310
DTSTART:20161210T024500Z
DTEND:20161209T060000Z
LOCATION:Speakeasy 412 Congress Ave\,  Austin\,  Texas 78701
SUMMARY:The Vinyl Revival
DESCRIPTION: The Vinyl Revival
END:VEVENT
END:VCALENDAR