BEGIN:VCALENDAR
VERSION:2.0
PRODID:-//eventon.com NONSGML v1.0//EN
BEGIN:VEVENT
UID:69ea8c4e36196
DTSTAMP:20260423T161702
DTSTART:20161209T023000Z
DTEND:20161208T060000Z
LOCATION:
SUMMARY:Phil Luna Trio
DESCRIPTION: Phil Luna Trio
END:VEVENT
END:VCALENDAR